BEGIN:VCALENDAR
VERSION:2.0
PRODID:-//pretix//My_pretix_installation//
BEGIN:VEVENT
UID:pretix-fediday-2025-0@ctix.c-base.org
DTSTART:20251003T160000Z
DTEND:20251005T160000Z
DESCRIPTION:Tickets: https://ctix.c-base.org/fediday/2025/\nEinlass: 04.10.
 2025 08:30\nVeranstalter: FediDay Berlin 2025
DTSTAMP:20260422T060034Z
LOCATION:c-base Raumstation\,  Rungestr. 20\, 10179 Berlin\, 2. Hinterhof
SUMMARY:FediDay Berlin 2025
END:VEVENT
END:VCALENDAR
